BEGIN:VCALENDAR
VERSION:2.0
PRODID:-//Sierra Nevada Horse Show Association - ECPv6.15.20//NONSGML v1.0//EN
CALSCALE:GREGORIAN
METHOD:PUBLISH
X-WR-CALNAME:Sierra Nevada Horse Show Association
X-ORIGINAL-URL:https://snhsa.org
X-WR-CALDESC:Events for Sierra Nevada Horse Show Association
REFRESH-INTERVAL;VALUE=DURATION:PT1H
X-Robots-Tag:noindex
X-PUBLISHED-TTL:PT1H
BEGIN:VTIMEZONE
TZID:America/Los_Angeles
BEGIN:DAYLIGHT
TZOFFSETFROM:-0800
TZOFFSETTO:-0700
TZNAME:PDT
DTSTART:20240310T100000
END:DAYLIGHT
BEGIN:STANDARD
TZOFFSETFROM:-0700
TZOFFSETTO:-0800
TZNAME:PST
DTSTART:20241103T090000
END:STANDARD
BEGIN:DAYLIGHT
TZOFFSETFROM:-0800
TZOFFSETTO:-0700
TZNAME:PDT
DTSTART:20250309T100000
END:DAYLIGHT
BEGIN:STANDARD
TZOFFSETFROM:-0700
TZOFFSETTO:-0800
TZNAME:PST
DTSTART:20251102T090000
END:STANDARD
BEGIN:DAYLIGHT
TZOFFSETFROM:-0800
TZOFFSETTO:-0700
TZNAME:PDT
DTSTART:20260308T100000
END:DAYLIGHT
BEGIN:STANDARD
TZOFFSETFROM:-0700
TZOFFSETTO:-0800
TZNAME:PST
DTSTART:20261101T090000
END:STANDARD
END:VTIMEZONE
BEGIN:VEVENT
DTSTART;VALUE=DATE:20250524
DTEND;VALUE=DATE:20250526
DTSTAMP:20260422T184805
CREATED:20250319T044327Z
LAST-MODIFIED:20250524T045651Z
UID:1749-1748044800-1748217599@snhsa.org
SUMMARY:Rosemary Meadows Equestrian Outreach Horse Show
DESCRIPTION:1115 N. Cantlon Lane\, Reno\, 89521\nRosemary Meadows Prize list & Registration form pdf  \nRegister online at: RingRadar: Horse Show Management Software\nhttps://www.ringradar.com/838/show-info \n\npre-registration deadline is Wednesday\, May 21\, by 8 p.m.)\nEmail registration form to Susanhhowe@gmail.com\n\nFILLABLE Registration Form pdf (Save to device\, type in information\, save\, then print or email) \nUp to date Flu/Rhino vaccination records are required prior to entry onto the property. Send by email with registration by email to Susan @ susanhhowe@gmail.com
URL:https://snhsa.org/event/rosemary-meadows-equestrian-outreach-horse-show-may-2025/
LOCATION:Rosemary Meadows Equestrian\, 1115 North Cantlon Ln.\, Reno\, NV\, 89521\, United States
CATEGORIES:Show
ATTACH;FMTTYPE=image/png:https://snhsa.org/wp-content/uploads/2025/02/Screenshot-2025-03-18-at-9.42.51-PM.png
END:VEVENT
BEGIN:VEVENT
DTSTART;VALUE=DATE:20250531
DTEND;VALUE=DATE:20250602
DTSTAMP:20260422T184805
CREATED:20250319T045015Z
LAST-MODIFIED:20250529T201250Z
UID:1916-1748649600-1748822399@snhsa.org
SUMMARY:AJA Equine 2-Day Outreach Horse Show
DESCRIPTION:To be held at Ironwood Events Center\, 5600 Whiskey Springs Rd.\, Reno\, 89510\nRegister online or email entry form to Secretary \nAJA Equine 2-day Outreach Horse Show Prize List and Registration Form \nRegister online at: RingRadar: Horse Show Management Software\nhttps://www.ringradar.com/836/show-info \n\npre-registration deadline is Wednesday\, May 28\, by 8 p.m.)\nEmail registration form to susanhhowe@gmail.com\n\nFILLABLE AJA Equine Outreach Horse Show Registration Form (Save to device\, type in information\, save\, then print or email) \nFeaturing SNHSA Pro/Jr-Am Speed Derby^ and\nSNHSA Jr/Am Challenge Cup Tournament^ \n^Riders and trainers must be SNHSA members to enter the Challenge Cup Tournament and/or Speed Derby. Horses must be registered for points to count in the Challenge Cup and Speed Derby. And for points to count toward year-end awards\, a Special Declaration form must be completed and turned into the secretary prior to competing. \nSpecial Declaration Forms – Sierra Nevada Horse Show Association \nUp to date Flu/Rhino vaccination records are required prior to entry onto the property. Send by email with registration by email to Susan @ susanhhowe@gmail.com
URL:https://snhsa.org/event/aja-equine-2-day-outreach-horse-show-may-2025/
LOCATION:At Ironwood Events Center\, 5600 Whiskey Springs Rd.\, Reno\, NV\, 89510\, United States
CATEGORIES:Show
ATTACH;FMTTYPE=image/png:https://snhsa.org/wp-content/uploads/2025/05/AJA-HR-Logo-rev-smallest.png
END:VEVENT
END:VCALENDAR