BEGIN:VCALENDAR
VERSION:2.0
PRODID:-//Sierra Nevada Horse Show Association - ECPv6.15.20//NONSGML v1.0//EN
CALSCALE:GREGORIAN
METHOD:PUBLISH
X-ORIGINAL-URL:https://snhsa.org
X-WR-CALDESC:Events for Sierra Nevada Horse Show Association
REFRESH-INTERVAL;VALUE=DURATION:PT1H
X-Robots-Tag:noindex
X-PUBLISHED-TTL:PT1H
BEGIN:VTIMEZONE
TZID:America/Los_Angeles
BEGIN:DAYLIGHT
TZOFFSETFROM:-0800
TZOFFSETTO:-0700
TZNAME:PDT
DTSTART:20240310T100000
END:DAYLIGHT
BEGIN:STANDARD
TZOFFSETFROM:-0700
TZOFFSETTO:-0800
TZNAME:PST
DTSTART:20241103T090000
END:STANDARD
BEGIN:DAYLIGHT
TZOFFSETFROM:-0800
TZOFFSETTO:-0700
TZNAME:PDT
DTSTART:20250309T100000
END:DAYLIGHT
BEGIN:STANDARD
TZOFFSETFROM:-0700
TZOFFSETTO:-0800
TZNAME:PST
DTSTART:20251102T090000
END:STANDARD
BEGIN:DAYLIGHT
TZOFFSETFROM:-0800
TZOFFSETTO:-0700
TZNAME:PDT
DTSTART:20260308T100000
END:DAYLIGHT
BEGIN:STANDARD
TZOFFSETFROM:-0700
TZOFFSETTO:-0800
TZNAME:PST
DTSTART:20261101T090000
END:STANDARD
END:VTIMEZONE
BEGIN:VEVENT
DTSTART;TZID=America/Los_Angeles:20250627T080000
DTEND;TZID=America/Los_Angeles:20250629T170000
DTSTAMP:20260422T185044
CREATED:20250510T021849Z
LAST-MODIFIED:20250620T065700Z
UID:2172-1751011200-1751216400@snhsa.org
SUMMARY:AJA Equine and Pair of Aces Double-Dip Outreach Horse Show
DESCRIPTION:AJA Equine & Pair of Aces Double-Dip 3-day Horse Show\nJune 27-29\, 2025\nat the Historic Silver Circle Ranch\, 3400 Holcomb Ranch Lane\, Reno\, NV 89511 \nFeaturing: $500 High and Low Jumper Derbies\, a $500 Double-Dip Equitation Challenge\, the SNHSA Hunter Team Challenge\, Luck of the Draw daily raffle drawings for registration fee credits\, daily ice cream social\, shaded spectator areas with misters\, sponsored Stakes classes\, and Division & Reserve Champion Ribbons. \nSponsorship opportunities \nAJA Equine & Pair of Aces Double-Dip Prize list & Registration form pdf (pre-registration deadline is Tuesday\, June 24\, by 8 p.m.) \nONLINE REGISTRATION RingRadar.com: \nGo to https://www.ringradar.com/1095/show-info to register online for the AJA Equine Show\, June 27. \nGo to https://www.ringradar.com/996/show-info to register online for the Pair of Aces Show\, June 28-29  \nFirst time registrants\, please view this video:  https://www.youtube.com/watch?v=CF21LIV_IvI \nFILLABLE AJA Equine Double-Dip June 27 Registration form \nFILLABLE Pair of Aces Double-Dip June 28-29 Registration form \nQuestions: call Susan at 775-750-6475 or email susanhhowe@gmail.com \nHunter Team Challenge Rules \nSpecial Declaration Forms – Sierra Nevada Horse Show Association
URL:https://snhsa.org/event/aja-equine-and-pair-of-aces-double-dip-outreach-horse-show/
LOCATION:The Historic Silver Circle Ranch\, 3400 Holcomb Ranch Lane\, Reno\, NV\, 89511\, United States
CATEGORIES:Show
ATTACH;FMTTYPE=image/jpeg:https://snhsa.org/wp-content/uploads/2025/05/POA-AJA-comb-logos.jpg
END:VEVENT
END:VCALENDAR