BEGIN:VCALENDAR
VERSION:2.0
PRODID:-//Sierra Nevada Horse Show Association - ECPv6.15.20//NONSGML v1.0//EN
CALSCALE:GREGORIAN
METHOD:PUBLISH
X-ORIGINAL-URL:https://snhsa.org
X-WR-CALDESC:Events for Sierra Nevada Horse Show Association
REFRESH-INTERVAL;VALUE=DURATION:PT1H
X-Robots-Tag:noindex
X-PUBLISHED-TTL:PT1H
BEGIN:VTIMEZONE
TZID:America/Los_Angeles
BEGIN:DAYLIGHT
TZOFFSETFROM:-0800
TZOFFSETTO:-0700
TZNAME:PDT
DTSTART:20250309T100000
END:DAYLIGHT
BEGIN:STANDARD
TZOFFSETFROM:-0700
TZOFFSETTO:-0800
TZNAME:PST
DTSTART:20251102T090000
END:STANDARD
BEGIN:DAYLIGHT
TZOFFSETFROM:-0800
TZOFFSETTO:-0700
TZNAME:PDT
DTSTART:20260308T100000
END:DAYLIGHT
BEGIN:STANDARD
TZOFFSETFROM:-0700
TZOFFSETTO:-0800
TZNAME:PST
DTSTART:20261101T090000
END:STANDARD
BEGIN:DAYLIGHT
TZOFFSETFROM:-0800
TZOFFSETTO:-0700
TZNAME:PDT
DTSTART:20270314T100000
END:DAYLIGHT
BEGIN:STANDARD
TZOFFSETFROM:-0700
TZOFFSETTO:-0800
TZNAME:PST
DTSTART:20271107T090000
END:STANDARD
END:VTIMEZONE
BEGIN:VEVENT
DTSTART;VALUE=DATE:20260213
DTEND;VALUE=DATE:20260216
DTSTAMP:20260422T064904
CREATED:20251224T073039Z
LAST-MODIFIED:20251224T081337Z
UID:2950-1770940800-1771199999@snhsa.org
SUMMARY:2026 Bernie Traurig Clinic
DESCRIPTION:The SNHSA Member Education Committee is hosting its annual Educational Clinic with Bernie Traurig at the indoor arena at Ironwood Events Center Feb. 13-15. Semi-private lessons are offered Friday\, Feb 13th. The clinic is for SNHSA members only. All proceeds from the clinic benefit Member Education programs. \nBernie Traurig Clinic Flyer \nDeadline to register is Jan. 30 with 50% deposit. \nSubmit Registration pdf form \nSubmit FILLABLE Registration pdf form (save to device\, fill out form\, save\, then email to susanhhowe@gmail.com) \nRegister online here: 2026 Bernie Traurig Clinic – Sierra Nevada Horse Show Association \nWant 40% off?  \nSNHSA will provide a 40% discount off the total Clinic Session Fees bill for those who submit an essay to SNHSA with their entry. Plus\, tag SNHSA on any applicable social media posts made before the clinic\, using the tag @SNHSA_Official. The essay should include: How long have you been riding with SNHSA? What do you love about showing or riding for SNHSA? What are your riding goals and how will this clinic help you reach your goal? (Submit essay to susanhhowe@gmail.com with your entry deposit.)
URL:https://snhsa.org/event/2026-bernie-traurig-clinic/
LOCATION:At Ironwood Events Center\, 5600 Whiskey Springs Rd.\, Reno\, NV\, 89510\, United States
CATEGORIES:Clinic
ATTACH;FMTTYPE=image/png:https://snhsa.org/wp-content/uploads/2025/12/2026-Bernie-Traurig-Clinic-Flyer-scaled.png
END:VEVENT
END:VCALENDAR